BEGIN:VCALENDAR
VERSION:2.0
PRODID:icalendar-ruby
CALSCALE:GREGORIAN
BEGIN:VEVENT
DTSTAMP:20210122T034000Z
UID:9c17111b-3a56-4ef2-8caa-7d017303078d
DTSTART;VALUE=DATE:20190731
DESCRIPTION:Property ID# 458016\, Time: 1:00PM
SUMMARY:Auction for 
END:VEVENT
END:VCALENDAR
