BEGIN:VCALENDAR
VERSION:2.0
PRODID:icalendar-ruby
CALSCALE:GREGORIAN
BEGIN:VEVENT
DTSTAMP:20210122T033957Z
UID:8267be78-99ad-4620-84e7-5b637ee3e696
DTSTART;VALUE=DATE:20200825
DESCRIPTION:Property ID# 465526\, Locatoin: Ray White Leaders\, 9-11 Kings 
 Crescent LOWER HUTT\, Time: 3:00PM
SUMMARY:Auction for 
END:VEVENT
END:VCALENDAR
