BEGIN:VCALENDAR
VERSION:2.0
PRODID:icalendar-ruby
CALSCALE:GREGORIAN
BEGIN:VEVENT
DTSTAMP:20210122T033956Z
UID:ecafd2de-a738-4114-bdc6-ec6f17fbb35e
DTSTART;VALUE=DATE:20191210
DESCRIPTION:Property ID# 467919\, Locatoin: Ray White Leaders\, 9-11 Kings 
 Crescent LOWER HUTT\, Time: 4:00PM
SUMMARY:Auction for 
END:VEVENT
END:VCALENDAR
