BEGIN:VCALENDAR
VERSION:2.0
PRODID:icalendar-ruby
CALSCALE:GREGORIAN
BEGIN:VEVENT
DTSTAMP:20210122T033954Z
UID:5504ec5a-9a54-405c-951d-b9d6ecfa8c58
DTSTART;VALUE=DATE:20200312
DESCRIPTION:Property ID# 474440\, Locatoin: Ray White Leaders\, 9-11 Kings 
 Cres Lower Hutt\, Time: 4:00PM
SUMMARY:Auction for 
END:VEVENT
END:VCALENDAR
