BEGIN:VCALENDAR
VERSION:2.0
PRODID:icalendar-ruby
CALSCALE:GREGORIAN
BEGIN:VEVENT
DTSTAMP:20210122T034012Z
UID:39ecad5f-69b4-473f-a124-15a2368d4b4c
DTSTART;VALUE=DATE:20200812
DESCRIPTION:Property ID# 485745\, Locatoin: Ray White Upper Hutt office at 
 31 Main Street\, Upper Hutt\, Time: 12:00PM
SUMMARY:Auction for 
END:VEVENT
END:VCALENDAR
