BEGIN:VCALENDAR
VERSION:2.0
PRODID:icalendar-ruby
CALSCALE:GREGORIAN
BEGIN:VEVENT
DTSTAMP:20210122T033951Z
UID:63a3fe61-fda8-43b5-ae01-583abf6f0552
DTSTART;VALUE=DATE:20200903
DESCRIPTION:Property ID# 487602\, Locatoin: Ray White Leaders\, 9-11 Kings 
 Cres LOWER HUTT\, Time: 3:00PM
SUMMARY:Auction for 
END:VEVENT
END:VCALENDAR
