BEGIN:VCALENDAR
VERSION:2.0
PRODID:icalendar-ruby
CALSCALE:GREGORIAN
BEGIN:VEVENT
DTSTAMP:20210122T034011Z
UID:e5566ddd-6c54-4cfe-986e-a508983f3b3e
DTSTART;VALUE=DATE:20200909
DESCRIPTION:Property ID# 488284\, Locatoin: 31 Main Street\, Upper Hutt\, T
 ime: 12:00PM
SUMMARY:Auction for 
END:VEVENT
END:VCALENDAR
