BEGIN:VCALENDAR
VERSION:2.0
PRODID:icalendar-ruby
CALSCALE:GREGORIAN
BEGIN:VEVENT
DTSTAMP:20210122T034009Z
UID:244607ff-9d25-4bf9-816c-c448a908571b
DTSTART;VALUE=DATE:20200916
DESCRIPTION:Property ID# 489002\, Locatoin: 31 Main Street\, Upper Hutt (wi
 ll not be sold prior).\, Time: 12:00PM
SUMMARY:Auction for 
END:VEVENT
END:VCALENDAR
