BEGIN:VCALENDAR
VERSION:2.0
PRODID:icalendar-ruby
CALSCALE:GREGORIAN
BEGIN:VEVENT
DTSTAMP:20210122T034006Z
UID:c54831ed-0d33-4f28-8eed-7f19898b8de7
DTSTART;VALUE=DATE:20201007
DESCRIPTION:Property ID# 490700\, Locatoin: Ray White office 31 Main Street
 \, Upper Hutt\, Time: 12:00PM
SUMMARY:Auction for 
END:VEVENT
END:VCALENDAR
