BEGIN:VCALENDAR
VERSION:2.0
PRODID:icalendar-ruby
CALSCALE:GREGORIAN
BEGIN:VEVENT
DTSTAMP:20210122T034808Z
UID:28fed84c-939a-461a-a585-b1493045a241
DTSTART;VALUE=DATE:20201028
DESCRIPTION:Property ID# 492068\, Locatoin: 897 Fergusson Dr\, Upper Hutt\,
  Time: 12:00PM
SUMMARY:Auction for 
END:VEVENT
END:VCALENDAR
