BEGIN:VCALENDAR
VERSION:2.0
PRODID:icalendar-ruby
CALSCALE:GREGORIAN
BEGIN:VEVENT
DTSTAMP:20210122T034019Z
UID:9b887da6-c955-47d9-b72b-521799cc43e9
DTSTART;VALUE=DATE:20201030
DESCRIPTION:Property ID# 492923\, Locatoin: Ray White Office 31 Main Street
 \, Upper Hutt\, Time: 1:00PM
SUMMARY:Auction for 
END:VEVENT
END:VCALENDAR
