BEGIN:VCALENDAR
VERSION:2.0
PRODID:icalendar-ruby
CALSCALE:GREGORIAN
BEGIN:VEVENT
DTSTAMP:20210122T034005Z
UID:35d48336-e741-402d-b5a8-4bdc9a660fb3
DTSTART;VALUE=DATE:20201104
DESCRIPTION:Property ID# 493406\, Locatoin: 31 Main Street\, Upper Hutt - R
 ay White Office\, Time: 12:00PM
SUMMARY:Auction for 
END:VEVENT
END:VCALENDAR
