BEGIN:VCALENDAR
VERSION:2.0
PRODID:icalendar-ruby
CALSCALE:GREGORIAN
BEGIN:VEVENT
DTSTAMP:20210122T034057Z
UID:82e5508c-c2a5-40b0-8dc8-ae06ff09fe2f
DTSTART;VALUE=DATE:20201119
DESCRIPTION:Property ID# 494624\, Time: 12:30PM
SUMMARY:Auction for 
END:VEVENT
END:VCALENDAR
