BEGIN:VCALENDAR
VERSION:2.0
PRODID:icalendar-ruby
CALSCALE:GREGORIAN
BEGIN:VEVENT
DTSTAMP:20210122T034806Z
UID:caada276-9096-46cc-b0ca-7def4c18f2bb
DTSTART;VALUE=DATE:20201125
DESCRIPTION:Property ID# 494665\, Locatoin: Tommy's Upper Hutt - 897 Fergus
 son Dr\, Upper Hutt\, Time: 1:00PM
SUMMARY:Auction for 
END:VEVENT
END:VCALENDAR
