BEGIN:VCALENDAR
VERSION:2.0
PRODID:icalendar-ruby
CALSCALE:GREGORIAN
BEGIN:VEVENT
DTSTAMP:20210122T034703Z
UID:8bdd7668-9164-4bb5-8a8e-12676d11a727
DTSTART;VALUE=DATE:20201120
DESCRIPTION:Property ID# 494666\, Locatoin: 120 Queens Dr\, Lower Hutt\, Ti
 me: 3:00PM
SUMMARY:Auction for 
END:VEVENT
END:VCALENDAR
