BEGIN:VCALENDAR
VERSION:2.0
PRODID:icalendar-ruby
CALSCALE:GREGORIAN
BEGIN:VEVENT
DTSTAMP:20210122T034055Z
UID:28276de2-722c-480d-87fb-9ee7cb62f1ff
DTSTART;VALUE=DATE:20201208
DESCRIPTION:Property ID# 494902\, Time: 1:00PM
SUMMARY:Auction for 
END:VEVENT
END:VCALENDAR
