BEGIN:VCALENDAR
VERSION:2.0
PRODID:icalendar-ruby
CALSCALE:GREGORIAN
BEGIN:VEVENT
DTSTAMP:20210122T034002Z
UID:f3f117c2-19c7-4120-a1c5-83e9f900d253
DTSTART;VALUE=DATE:20201202
DESCRIPTION:Property ID# 496021\, Locatoin: Ray White Upper Hutt office at 
 31 Main Street\, Upper Hutt\, Time: 12:00PM
SUMMARY:Auction for 
END:VEVENT
END:VCALENDAR
