BEGIN:VCALENDAR
VERSION:2.0
PRODID:icalendar-ruby
CALSCALE:GREGORIAN
BEGIN:VEVENT
DTSTAMP:20210122T034053Z
UID:11c61c1b-461c-464e-b00a-279267faf255
DTSTART;VALUE=DATE:20210128
DESCRIPTION:Property ID# 499458\, Time: 3:00AM
SUMMARY:Auction for 16 Otira Grove
END:VEVENT
END:VCALENDAR
