BEGIN:VCALENDAR
VERSION:2.0
PRODID:icalendar-ruby
CALSCALE:GREGORIAN
BEGIN:VEVENT
DTSTAMP:20210122T033414Z
UID:f7891c86-aee1-4120-af4b-bc61e9395405
DTSTART;VALUE=DATE:20210202
DESCRIPTION:Property ID# 500081\, Locatoin: 897 Fergusson Drive\, Upper Hut
 t\, Time: 1:00PM
SUMMARY:Auction for 41 Hartford Crescent
END:VEVENT
END:VCALENDAR
