BEGIN:VCALENDAR
VERSION:2.0
PRODID:icalendar-ruby
CALSCALE:GREGORIAN
BEGIN:VEVENT
DTSTAMP:20210122T034052Z
UID:5ecb0fd8-1744-4ccd-84bd-4e9f7640826f
DTSTART;TZID=Pacific/Auckland:20210120T173000
DTEND;TZID=Pacific/Auckland:20210120T181500
DESCRIPTION:Property ID# 499458
SUMMARY:Openhome for 16 Otira Grove
END:VEVENT
END:VCALENDAR
