BEGIN:VCALENDAR
VERSION:2.0
PRODID:icalendar-ruby
CALSCALE:GREGORIAN
BEGIN:VEVENT
DTSTAMP:20210122T033425Z
UID:78e2a2cd-5754-43d1-b5c0-6d8df6091320
DTSTART;TZID=Pacific/Auckland:20210124T130000
DTEND;TZID=Pacific/Auckland:20210124T133000
DESCRIPTION:Property ID# 499362
SUMMARY:Openhome for 14/6 Keys Street
END:VEVENT
END:VCALENDAR
