BEGIN:VCALENDAR
VERSION:2.0
PRODID:icalendar-ruby
CALSCALE:GREGORIAN
BEGIN:VEVENT
DTSTAMP:20210122T034013Z
UID:72ef616b-1f9e-4c56-a588-36fa263ec871
DTSTART;TZID=Pacific/Auckland:20210124T131500
DTEND;TZID=Pacific/Auckland:20210124T140000
DESCRIPTION:Property ID# 499049
SUMMARY:Openhome for 17 Norfolk Street
END:VEVENT
END:VCALENDAR
