BEGIN:VCALENDAR
VERSION:2.0
PRODID:icalendar-ruby
CALSCALE:GREGORIAN
BEGIN:VEVENT
DTSTAMP:20210122T033422Z
UID:e7f434ec-d433-4c31-afe9-614defed3b43
DTSTART;TZID=Pacific/Auckland:20210124T120000
DTEND;TZID=Pacific/Auckland:20210124T124500
DESCRIPTION:Property ID# 499956
SUMMARY:Openhome for A/24 Mount Marua Way
END:VEVENT
END:VCALENDAR
