BEGIN:VCALENDAR
VERSION:2.0
PRODID:icalendar-ruby
CALSCALE:GREGORIAN
BEGIN:VEVENT
DTSTAMP:20260422T195827Z
UID:8f7593cf-8d03-4ddb-b7fd-8bfac64b91a9
DTSTART;VALUE=DATE:20200226
DESCRIPTION:Property ID# 472896\, Locatoin: 62 Queens Street\, Upper Hutt\,
  Time: 2:00PM
SUMMARY:Auction for 
END:VEVENT
END:VCALENDAR
