BEGIN:VCALENDAR
VERSION:2.0
PRODID:icalendar-ruby
CALSCALE:GREGORIAN
BEGIN:VEVENT
DTSTAMP:20260419T220101Z
UID:27122af4-850a-4cbb-946d-8e41164ee000
DTSTART;VALUE=DATE:20201009
DESCRIPTION:Property ID# 489991\, Locatoin: 62 Queen Street\, Upper Hutt\, 
 Time: 12:00PM
SUMMARY:Auction for 
END:VEVENT
END:VCALENDAR
