BEGIN:VCALENDAR
VERSION:2.0
PRODID:icalendar-ruby
CALSCALE:GREGORIAN
BEGIN:VEVENT
DTSTAMP:20260420T005756Z
UID:3eeccd55-7ed6-4922-beb6-efb818cdf62b
DTSTART;VALUE=DATE:20210218
DESCRIPTION:Property ID# 500817\, Locatoin: 62 Queen Street\, Upper Hutt\, 
 Time: 2:00PM
SUMMARY:Auction for 
END:VEVENT
END:VCALENDAR
