BEGIN:VCALENDAR
VERSION:2.0
PRODID:icalendar-ruby
CALSCALE:GREGORIAN
BEGIN:VEVENT
DTSTAMP:20260419T144908Z
UID:83739984-4677-4107-a07f-0834021d326f
DTSTART;VALUE=DATE:20230524
DESCRIPTION:Property ID# 556778\, Locatoin: 62 Queen Street\, Upper hutt\, 
 Time: 2:00PM
SUMMARY:Auction for 
END:VEVENT
END:VCALENDAR
